BEGIN:VCALENDAR
VERSION:2.0
PRODID:-//Pine Mountain Lake - ECPv6.15.17//NONSGML v1.0//EN
CALSCALE:GREGORIAN
METHOD:PUBLISH
X-WR-CALNAME:Pine Mountain Lake
X-ORIGINAL-URL:https://www.pinemountainlake.com
X-WR-CALDESC:Events for Pine Mountain Lake
REFRESH-INTERVAL;VALUE=DURATION:PT1H
X-Robots-Tag:noindex
X-PUBLISHED-TTL:PT1H
BEGIN:VTIMEZONE
TZID:America/Los_Angeles
BEGIN:DAYLIGHT
TZOFFSETFROM:-0800
TZOFFSETTO:-0700
TZNAME:PDT
DTSTART:20250309T100000
END:DAYLIGHT
BEGIN:STANDARD
TZOFFSETFROM:-0700
TZOFFSETTO:-0800
TZNAME:PST
DTSTART:20251102T090000
END:STANDARD
BEGIN:DAYLIGHT
TZOFFSETFROM:-0800
TZOFFSETTO:-0700
TZNAME:PDT
DTSTART:20260308T100000
END:DAYLIGHT
BEGIN:STANDARD
TZOFFSETFROM:-0700
TZOFFSETTO:-0800
TZNAME:PST
DTSTART:20261101T090000
END:STANDARD
BEGIN:DAYLIGHT
TZOFFSETFROM:-0800
TZOFFSETTO:-0700
TZNAME:PDT
DTSTART:20270314T100000
END:DAYLIGHT
BEGIN:STANDARD
TZOFFSETFROM:-0700
TZOFFSETTO:-0800
TZNAME:PST
DTSTART:20271107T090000
END:STANDARD
END:VTIMEZONE
BEGIN:VEVENT
DTSTART;VALUE=DATE:20260522
DTEND;VALUE=DATE:20260523
DTSTAMP:20260420T111045
CREATED:20260311T164632Z
LAST-MODIFIED:20260311T164632Z
UID:112754-1779408000-1779494399@www.pinemountainlake.com
SUMMARY:Roping Workshop
DESCRIPTION:The Roping Workshop is today. \nContact the PML Equestrian Center with any questions at 1(209)962-8667.
URL:https://www.pinemountainlake.com/event/roping-workshop/
LOCATION:Equestrian Center\, 13309 Clifton Way\, Groveland \, CA\, 95321\, United States
END:VEVENT
BEGIN:VEVENT
DTSTART;VALUE=DATE:20260522
DTEND;VALUE=DATE:20260525
DTSTAMP:20260420T111045
CREATED:20260122T173624Z
LAST-MODIFIED:20260122T180210Z
UID:112280-1779408000-1779667199@www.pinemountainlake.com
SUMMARY:Roping in the Pines
DESCRIPTION:Pine Mountain Lake Equestrian Center presents Roping in the Pines\, a 3-day big loop roping.\n\nJoin us for Roping in the Pines\, a celebration of Western tradition and skill\, taking place at Pine Mountain Lake from May 23–26\, 2025! Watch as cowboys and cowgirls from across the West compete in horsemanship\, roping\, and stockmanship\, showcasing timeless skills passed down through generations.\nThis competition not only highlights their talents but also offers contestants the chance to win prize money and traditional awards.\n\nFree for spectators. Vendors and food on site for purchase.\nFor more information contact the Equestrian Center at 1 (209) 962-8667. \nwebsite: pmlequestriancenter.com/roping-in-the-pines
URL:https://www.pinemountainlake.com/event/roping-in-the-pines/
LOCATION:Equestrian Center\, 13309 Clifton Way\, Groveland \, CA\, 95321\, United States
ATTACH;FMTTYPE=application/pdf:https://www.pinemountainlake.com/wp-content/uploads/2026/01/RITP_SaveTheDate_2026.pdf
END:VEVENT
BEGIN:VEVENT
DTSTART;TZID=America/Los_Angeles:20260523T100000
DTEND;TZID=America/Los_Angeles:20260523T120000
DTSTAMP:20260420T111045
CREATED:20260415T230602Z
LAST-MODIFIED:20260415T230602Z
UID:113254-1779530400-1779537600@www.pinemountainlake.com
SUMMARY:Wildfire Preparedness
DESCRIPTION:
URL:https://www.pinemountainlake.com/event/wildfire-preparedness/
LOCATION:Lake Lodge\, 20270 Pine Mountain Drive\, Groveland\, CA\, 95321\, United States
ORGANIZER;CN="Safety and Security Committee":MAILTO:safetyandsecuritycommittee@pinemountainlake.com
END:VEVENT
BEGIN:VEVENT
DTSTART;TZID=America/Los_Angeles:20260606T100000
DTEND;TZID=America/Los_Angeles:20260606T120000
DTSTAMP:20260420T111045
CREATED:20260415T230647Z
LAST-MODIFIED:20260415T230647Z
UID:113258-1780740000-1780747200@www.pinemountainlake.com
SUMMARY:Wildfire Preparedness
DESCRIPTION:
URL:https://www.pinemountainlake.com/event/wildfire-preparedness-2/
LOCATION:Lake Lodge\, 20270 Pine Mountain Drive\, Groveland\, CA\, 95321\, United States
ORGANIZER;CN="Safety and Security Committee":MAILTO:safetyandsecuritycommittee@pinemountainlake.com
END:VEVENT
BEGIN:VEVENT
DTSTART;TZID=America/Los_Angeles:20260613T100000
DTEND;TZID=America/Los_Angeles:20260613T120000
DTSTAMP:20260420T111045
CREATED:20260311T164130Z
LAST-MODIFIED:20260311T164130Z
UID:112740-1781344800-1781352000@www.pinemountainlake.com
SUMMARY:Townhall Meeting
DESCRIPTION:Open forum for property owners to speak with the Board at the Lake Lodge from 10 am – noon.
URL:https://www.pinemountainlake.com/event/townhall-meeting/
LOCATION:Lake Lodge\, 20270 Pine Mountain Drive\, Groveland\, CA\, 95321\, United States
END:VEVENT
BEGIN:VEVENT
DTSTART;TZID=America/Los_Angeles:20260613T120000
DTEND;TZID=America/Los_Angeles:20260613T160000
DTSTAMP:20260420T111045
CREATED:20260310T230639Z
LAST-MODIFIED:20260310T230639Z
UID:112716-1781352000-1781366400@www.pinemountainlake.com
SUMMARY:Flea Market at the Stables
DESCRIPTION:Contact the Stables Manager for more information: 1 (209) 962-8667.
URL:https://www.pinemountainlake.com/event/flea-market-at-the-stables/
LOCATION:CA
END:VEVENT
BEGIN:VEVENT
DTSTART;TZID=America/Los_Angeles:20260614T170000
DTEND;TZID=America/Los_Angeles:20260614T190000
DTSTAMP:20260420T111045
CREATED:20260415T224020Z
LAST-MODIFIED:20260415T224020Z
UID:113210-1781456400-1781463600@www.pinemountainlake.com
SUMMARY:FOTL: Poker Run
DESCRIPTION:Join Friends of the Lake at the Marina at 5 PM. We board pontoon boats and travel around the lake picking up poker cards. \nReserve your seat 1-209-962-7904 \n$5 per person
URL:https://www.pinemountainlake.com/event/fotl-poker-run/
LOCATION:Marina\, 12495 Casseretto Court\, Groveland\, CA\, 95321
END:VEVENT
BEGIN:VEVENT
DTSTART;TZID=America/Los_Angeles:20260620T090000
DTEND;TZID=America/Los_Angeles:20260620T110000
DTSTAMP:20260420T111045
CREATED:20260311T165346Z
LAST-MODIFIED:20260311T165346Z
UID:112770-1781946000-1781953200@www.pinemountainlake.com
SUMMARY:Board Meeting
DESCRIPTION:Check the PML Website for the agenda. \nFor more information\, please call the Administration office at 1(209)962-8600.
URL:https://www.pinemountainlake.com/event/board-meeting-4/
LOCATION:Lake Lodge\, 20270 Pine Mountain Drive\, Groveland\, CA\, 95321\, United States
END:VEVENT
BEGIN:VEVENT
DTSTART;VALUE=DATE:20260704
DTEND;VALUE=DATE:20260705
DTSTAMP:20260420T111045
CREATED:20260123T225242Z
LAST-MODIFIED:20260123T225242Z
UID:112295-1783123200-1783209599@www.pinemountainlake.com
SUMMARY:Independence Day Celebration
DESCRIPTION:The United States is celebrating its 250th anniversary of the signing of the Declaration of Independence ~ known as a semi quincentennial. \n  \n 
URL:https://www.pinemountainlake.com/event/independence-day-celebration/
LOCATION:CA
END:VEVENT
BEGIN:VEVENT
DTSTART;TZID=America/Los_Angeles:20260704T180000
DTEND;TZID=America/Los_Angeles:20260704T200000
DTSTAMP:20260420T111045
CREATED:20260415T224144Z
LAST-MODIFIED:20260415T224144Z
UID:113214-1783188000-1783195200@www.pinemountainlake.com
SUMMARY:FOTL: Boat Parade
DESCRIPTION:Boat parade at 6 PM – no fee. \nCall 1-209-962-6336 for more information.
URL:https://www.pinemountainlake.com/event/fotl-boat-parade/
LOCATION:Marina\, 12495 Casseretto Court\, Groveland\, CA\, 95321
END:VEVENT
BEGIN:VEVENT
DTSTART;TZID=America/Los_Angeles:20260711T080000
DTEND;TZID=America/Los_Angeles:20260711T170000
DTSTAMP:20260420T111045
CREATED:20260415T224319Z
LAST-MODIFIED:20260415T224319Z
UID:113218-1783756800-1783789200@www.pinemountainlake.com
SUMMARY:FOTL: PML Lake Swim
DESCRIPTION:Annual “Lake Swim” from Dunn Court to the Marina at 3 PM. \nMust be proficient swimmer. \nNo fee.
URL:https://www.pinemountainlake.com/event/fotl-pml-lake-swim/
LOCATION:Dunn Court\, 20022 Dunn Court\, Groveland\, CA\, 95321\, United States
END:VEVENT
BEGIN:VEVENT
DTSTART;TZID=America/Los_Angeles:20260712T170000
DTEND;TZID=America/Los_Angeles:20260712T200000
DTSTAMP:20260420T111045
CREATED:20260415T224452Z
LAST-MODIFIED:20260415T224452Z
UID:113222-1783875600-1783886400@www.pinemountainlake.com
SUMMARY:FOTL: Music at the Marina
DESCRIPTION:Kaleidoscope band is playing at the Marina – after 5 PM is a potluck dinner – $10 per person.
URL:https://www.pinemountainlake.com/event/fotl-music-at-the-marina/
LOCATION:Marina\, 12495 Casseretto Court\, Groveland\, CA\, 95321
END:VEVENT
BEGIN:VEVENT
DTSTART;TZID=America/Los_Angeles:20260717T080000
DTEND;TZID=America/Los_Angeles:20260717T120000
DTSTAMP:20260420T111045
CREATED:20260415T230727Z
LAST-MODIFIED:20260415T230727Z
UID:113239-1784275200-1784289600@www.pinemountainlake.com
SUMMARY:Kid's Waterski Day
DESCRIPTION:go to pinemountainlakewaterskiclub.com
URL:https://www.pinemountainlake.com/event/kids-waterski-day-2/
LOCATION:Marina\, 12495 Casseretto Court\, Groveland\, CA\, 95321
END:VEVENT
BEGIN:VEVENT
DTSTART;TZID=America/Los_Angeles:20260718T080000
DTEND;TZID=America/Los_Angeles:20260718T120000
DTSTAMP:20260420T111045
CREATED:20260415T225339Z
LAST-MODIFIED:20260415T225459Z
UID:113234-1784361600-1784376000@www.pinemountainlake.com
SUMMARY:Kid's Waterski Day
DESCRIPTION:go to pinemountainlakewaterskiclub.com
URL:https://www.pinemountainlake.com/event/kids-waterski-day/
LOCATION:Marina\, 12495 Casseretto Court\, Groveland\, CA\, 95321
END:VEVENT
BEGIN:VEVENT
DTSTART;TZID=America/Los_Angeles:20260718T090000
DTEND;TZID=America/Los_Angeles:20260718T110000
DTSTAMP:20260420T111045
CREATED:20260311T165421Z
LAST-MODIFIED:20260311T165421Z
UID:112772-1784365200-1784372400@www.pinemountainlake.com
SUMMARY:Board Meeting
DESCRIPTION:Check the PML Website for the agenda. \nFor more information\, please call the Administration office at 1(209)962-8600.
URL:https://www.pinemountainlake.com/event/board-meeting-5/
LOCATION:Lake Lodge\, 20270 Pine Mountain Drive\, Groveland\, CA\, 95321\, United States
END:VEVENT
BEGIN:VEVENT
DTSTART;TZID=America/Los_Angeles:20260815T090000
DTEND;TZID=America/Los_Angeles:20260815T110000
DTSTAMP:20260420T111045
CREATED:20260311T165458Z
LAST-MODIFIED:20260311T165458Z
UID:112774-1786784400-1786791600@www.pinemountainlake.com
SUMMARY:Board Meeting
DESCRIPTION:Check the PML Website for the agenda. \nFor more information\, please call the Administration office at 1(209)962-8600.
URL:https://www.pinemountainlake.com/event/board-meeting-6/
LOCATION:Lake Lodge\, 20270 Pine Mountain Drive\, Groveland\, CA\, 95321\, United States
END:VEVENT
BEGIN:VEVENT
DTSTART;TZID=America/Los_Angeles:20260816T170000
DTEND;TZID=America/Los_Angeles:20260816T200000
DTSTAMP:20260420T111045
CREATED:20260415T224637Z
LAST-MODIFIED:20260415T224637Z
UID:113226-1786899600-1786910400@www.pinemountainlake.com
SUMMARY:FOTL: Puzzles on the Lake
DESCRIPTION:Another fun event at the Marina. \nStarts at 5 PM. \nWe divide into teams on boats and look for clues to answer the quiz. \n$10 per person.
URL:https://www.pinemountainlake.com/event/fotl-puzzles-on-the-lake/
LOCATION:Marina\, 12495 Casseretto Court\, Groveland\, CA\, 95321
END:VEVENT
BEGIN:VEVENT
DTSTART;TZID=America/Los_Angeles:20260913T170000
DTEND;TZID=America/Los_Angeles:20260913T200000
DTSTAMP:20260420T111045
CREATED:20260415T224914Z
LAST-MODIFIED:20260415T224914Z
UID:113230-1789318800-1789329600@www.pinemountainlake.com
SUMMARY:FOTL: Bingo on the Beach
DESCRIPTION:Bingo on the beach is a great way to end the summer season. We meet at the Marina at 5 PM for supper and then play a rousing game of bingo with prizes. \n$5 for non-members.
URL:https://www.pinemountainlake.com/event/fotl-bingo-on-the-beach/
LOCATION:Marina\, 12495 Casseretto Court\, Groveland\, CA\, 95321
END:VEVENT
BEGIN:VEVENT
DTSTART;TZID=America/Los_Angeles:20260926T090000
DTEND;TZID=America/Los_Angeles:20260926T110000
DTSTAMP:20260420T111045
CREATED:20260311T165529Z
LAST-MODIFIED:20260311T165529Z
UID:112776-1790413200-1790420400@www.pinemountainlake.com
SUMMARY:Board Meeting
DESCRIPTION:Check the PML Website for the agenda. \nFor more information\, please call the Administration office at 1(209)962-8600.
URL:https://www.pinemountainlake.com/event/board-meeting-7/
LOCATION:Lake Lodge\, 20270 Pine Mountain Drive\, Groveland\, CA\, 95321\, United States
END:VEVENT
BEGIN:VEVENT
DTSTART;TZID=America/Los_Angeles:20261017T090000
DTEND;TZID=America/Los_Angeles:20261017T110000
DTSTAMP:20260420T111045
CREATED:20260311T170024Z
LAST-MODIFIED:20260311T170024Z
UID:112778-1792227600-1792234800@www.pinemountainlake.com
SUMMARY:Board Meeting
DESCRIPTION:Check the PML Website for the agenda. \nFor more information\, please call the Administration office at 1(209)962-8600.
URL:https://www.pinemountainlake.com/event/board-meeting-8/
LOCATION:Lake Lodge\, 20270 Pine Mountain Drive\, Groveland\, CA\, 95321\, United States
END:VEVENT
BEGIN:VEVENT
DTSTART;TZID=America/Los_Angeles:20261121T090000
DTEND;TZID=America/Los_Angeles:20261121T110000
DTSTAMP:20260420T111045
CREATED:20260311T170120Z
LAST-MODIFIED:20260311T170120Z
UID:112780-1795251600-1795258800@www.pinemountainlake.com
SUMMARY:Board Meeting
DESCRIPTION:Check the PML Website for the agenda. \nFor more information\, please call the Administration office at 1(209)962-8600.
URL:https://www.pinemountainlake.com/event/board-meeting-9/
LOCATION:Lake Lodge\, 20270 Pine Mountain Drive\, Groveland\, CA\, 95321\, United States
END:VEVENT
BEGIN:VEVENT
DTSTART;TZID=America/Los_Angeles:20261205T100000
DTEND;TZID=America/Los_Angeles:20261205T120000
DTSTAMP:20260420T111045
CREATED:20260311T164218Z
LAST-MODIFIED:20260311T164218Z
UID:112744-1796464800-1796472000@www.pinemountainlake.com
SUMMARY:Townhall Meeting
DESCRIPTION:Open forum for property owners to speak with the Board at the Lake Lodge from 10 am – noon.
URL:https://www.pinemountainlake.com/event/townhall-meeting-2/
LOCATION:Lake Lodge\, 20270 Pine Mountain Drive\, Groveland\, CA\, 95321\, United States
END:VEVENT
END:VCALENDAR